BEGIN:VCALENDAR
VERSION:2.0
PRODID:-//XICF - ECPv4.6.5//NONSGML v1.0//EN
CALSCALE:GREGORIAN
METHOD:PUBLISH
X-WR-CALNAME:XICF
X-ORIGINAL-URL:http://xicf.org
X-WR-CALDESC:Events for XICF
BEGIN:VEVENT
DTSTART;TZID=Asia/Hong_Kong:20180121T003000
DTEND;TZID=Asia/Hong_Kong:20180121T134500
DTSTAMP:20260420T111341
CREATED:20171229T080544Z
LAST-MODIFIED:20171229T080803Z
UID:10221-1516494600-1516542300@xicf.org
SUMMARY:The Power of Prayer - Stories to Grow Series
DESCRIPTION:Introducing a series of talks from mentors of XICF\, sharing their unique stories\, passions and convictions as they walk alongside God through different stages of life.\n  \n[vc_row]\n[vc_column width=”1/2″]\nHOT TOPICS on Relationships\, Sexuality\, Being Single\, Choosing a Life partner\, Marriage\, Parenting\, Business\, Teenagers\, Cross Cultural and TCKs\, and so much more will be shared and discussed. \nWe have over 1000 years of life experience among the 30 + mentors we have in this group – that’s a lot of life to share! Hopefully something will be of interest to YOU! \n  \nCome and better equip yourself and be more in tune with God!\n[/vc_column]\n[vc_column width=”1/2″]\n\nWHEN – Selected Sundays\, 9 am to 10 am (will be announced in advance).\nWHAT – Topic sessions will be communicated via announcements\, wechat and email.\nWHO – Foreign passport holders or spouse married to one.\nWHERE – Gospel Church\, Room 107.\nWHY – Because we CARE and want to SHARE and GROW together in God’s love within our Fellowship\, in Xiamen and beyond!\nHOW – Sign up after announcement for the session you are interested in\, and be there on the Sunday you sign up.\n\n[/vc_column]\n[/vc_row]\n\nSESSION'S TOPIC\n\nThe Power of Prayer\nBorn in Christ\, we believers have enormous power at our disposal through Him who gave His life so that we may live. Indeed as James rightfully declares\, the effectual fervent prayer of a righteous man avails much. \nThere is no greater joy than seeing the will of God for marriages\, families\, churches\, nations and His children unfold as men cause a release of the unfailing power of the Lord through prayer. Ephesians 3:20 says “Now unto him that is able to do exceeding abundantly above all that we ask or think\, according to the power that is at work in us”. Family there is great power at work in us!!!  \nJoin Bro. Perry as he shares what the Lord has laid on his heart for the church concerning prayer and how the Lord via prayer breaks the chains of darkness and establishes His will in our lives. Jesus is Lord.\n\nOpen to male and female (no age limit).\nForeign passport holders only.\n\nInterested? Sign up with ushers after service or contact Inga. \n\nYOUR CONTACT\n[vc_row]\n[vc_column width=”1/3″]\n\n\nInga Adolfo-Hu \n[/vc_column]\n[vc_column width=”2/3″]\nHospitality and Stories to Grow Coordinator – Steering Committee\n\nInga is from Philippines. She has lived in China with her family since 2003. She has a heart to serve the body of Christ in any way God in His grace will enable her. Her role in the Steering Committee is to coordinate the Hospitality team and talks on Stories to Grow sessions\, in order to inspire and encourage each other in the faith. \n\nEmail Inga\nWechat: inga1975\n[/vc_column]\n[/vc_row]\n\n
URL:http://xicf.org/event/power-of-prayer-stories-to-grow-series/
LOCATION:139 Siming East Road\, Zhongshan Road Shangquan\, Siming
CATEGORIES:Stories To Grow
ATTACH;FMTTYPE=image/jpeg:http://xicf.org/wp-content/uploads/2017/12/01-featured.jpg
END:VEVENT
END:VCALENDAR