BEGIN:VCALENDAR
VERSION:2.0
PRODID:-//XICF - ECPv4.6.5//NONSGML v1.0//EN
CALSCALE:GREGORIAN
METHOD:PUBLISH
X-WR-CALNAME:XICF
X-ORIGINAL-URL:http://xicf.org
X-WR-CALDESC:Events for XICF
BEGIN:VEVENT
DTSTART;TZID=Asia/Hong_Kong:20171015T103000
DTEND;TZID=Asia/Hong_Kong:20171015T120000
DTSTAMP:20260420T143557
CREATED:20171007T032240Z
LAST-MODIFIED:20171009T072010Z
UID:9141-1508063400-1508068800@xicf.org
SUMMARY:XICF Welcome Service 2017
DESCRIPTION:The Xiamen International Christian Fellowship cordially invites all newly arrived students\, workers and families to a special introductory and welcome fellowship dubbed XICF Welcome Service!\n  \nEVENT DETAIL\nDate: Sunday 15th October 2017\nTime: 10:30 am \nThe fellowship granted permission by the Chinese government and officials in Xiamen provides the warm and spiritual atmosphere for the growth of believers across the globe. \n\nBehold\, how good and pleasant it is when brothers dwell in unity! It is like precious oil poured on the head\, running down on the beard\, running down on Aaron’s beard\, down on the collar of his robe.Psalm 133:1-2 (ESV) \n
URL:http://xicf.org/event/xicf-welcome-service-2017/
LOCATION:139 Siming East Road\, Zhongshan Road Shangquan\, Siming
CATEGORIES:XICF
ATTACH;FMTTYPE=image/jpeg:http://xicf.org/wp-content/uploads/2017/10/welcome-service.jpg
END:VEVENT
END:VCALENDAR