BEGIN:VCALENDAR
VERSION:2.0
PRODID:-//XICF - ECPv4.6.5//NONSGML v1.0//EN
CALSCALE:GREGORIAN
METHOD:PUBLISH
X-WR-CALNAME:XICF
X-ORIGINAL-URL:http://xicf.org
X-WR-CALDESC:Events for XICF
BEGIN:VEVENT
DTSTART;TZID=Asia/Hong_Kong:20181216T002000
DTEND;TZID=Asia/Hong_Kong:20181216T134500
DTSTAMP:20260425T172806
CREATED:20181126T024243Z
LAST-MODIFIED:20240326T104628Z
UID:10875-1544919600-1544967900@xicf.org
SUMMARY:A Transferable Tool - Stories to Grow Series
DESCRIPTION:Introducing a series of talks from our speakers at XICF\, sharing their unique stories\, passions and convictions as they walk alongside God through different stages of life.\n  \n[vc_row]\n[vc_column width=”1/2″]\nHOT TOPICS on Relationships\, Sexuality\, Being Single\, Choosing a Life partner\, Marriage\, Parenting\, Business\, Teenagers\, Cross Cultural and TCKs\, and so much more will be shared and discussed. \nWe have many life stories to share. Hopefully something will be of interest to YOU! \n  \nCome and better equip yourself and be more in tune with God!\n[/vc_column]\n[vc_column width=”1/2″]\n\nWHEN – Selected Sundays\, 12:20 – 13:45 (will be announced in advance).\nWHAT – Topic sessions will be communicated via announcements\, wechat and email.\nWHO – Foreign passport holders or spouse married to one.\nWHERE – Gospel Church\, Room 206.\nWHY – Because we CARE and want to SHARE and GROW together in God’s love within our Fellowship\, in Xiamen and beyond!\nHOW – Sign up after announcement for the session you are interested in\, and be there on the Sunday you sign up.\n\n[/vc_column]\n[/vc_row]\n\nSESSION'S TOPIC\n\nA Transferable Tool\n  \nGod’s desire for His church is to multiply. To do this we need a tool that can be easily passed from one spiritual generation to the next. Join us to learn a tool that can equip you to facilitate a group of believers or non-believers to learn about the one true God. This effective study method is simple and relies on the Bible itself\, rather than the leader\, to do the heavy lifting of discipleship. \nDiscovery Bible Study (DBS) works well in almost any context and there are no leaders or students\, just a facilitator of a group of people joining together to learn about God. In this session we will learn the Nuts & Bolts of this method that is used around the world to multiply God’s church. \nCome to equip yourself with a tool that can be easily transferred to help advance the Kingdom of God. \nTrevis Upchurch has over 15 years experience as an educator in the United States\, but has spent the last 2 years using his profession to share God’s love in Africa and Asia. From small groups in the USA\, to Africa\, and now in Xiamen he has used the DBS method to help multiply God’s church. \n12:20-12:45 light lunch\n12:45-1:45 STG Session \n\nOpen to male and female\, age 16 and above*.\n*Foreign passport holders only.\n\nInterested? Sign up with ushers after service or contact Inga. \n\nYOUR CONTACT\n[vc_row]\n[vc_column width=”1/3″]\n\n\nInga Adolfo-Hu \n[/vc_column]\n[vc_column width=”2/3″]\nHospitality and Stories to Grow Coordinator – Steering Committee\n\nInga is from Philippines. She has lived in China with her family since 2003. She has a heart to serve the body of Christ in any way God in His grace will enable her. Her role in the Steering Committee is to coordinate the Hospitality team and talks on Stories to Grow sessions\, in order to inspire and encourage each other in the faith. \n\nEmail Inga\nWechat: inga1975\n[/vc_column]\n[/vc_row]\n  \n\n
URL:http://xicf.org/event/a-transferable-tool-stories-to-grow-series/
LOCATION:139 Siming East Road\, Zhongshan Road Shangquan\, Siming
CATEGORIES:Stories To Grow
ATTACH;FMTTYPE=image/jpeg:http://xicf.org/wp-content/uploads/2018/11/01-featured.jpg
END:VEVENT
END:VCALENDAR