BEGIN:VCALENDAR
VERSION:2.0
PRODID:-//XICF - ECPv4.6.5//NONSGML v1.0//EN
CALSCALE:GREGORIAN
METHOD:PUBLISH
X-WR-CALNAME:XICF
X-ORIGINAL-URL:http://xicf.org
X-WR-CALDESC:Events for XICF
BEGIN:VEVENT
DTSTART;TZID=Asia/Hong_Kong:20190428T002000
DTEND;TZID=Asia/Hong_Kong:20190428T134500
DTSTAMP:20260425T102444
CREATED:20190410T131507Z
LAST-MODIFIED:20240326T104519Z
UID:11094-1556410800-1556459100@xicf.org
SUMMARY:The Five Love Languages - Stories to Grow Series
DESCRIPTION:Introducing a series of talks from our speakers at XICF\, sharing their unique stories\, passions and convictions as they walk alongside God through different stages of life.\n  \n[vc_row]\n[vc_column width=”1/2″]\nHOT TOPICS on Relationships\, Sexuality\, Being Single\, Choosing a Life partner\, Marriage\, Parenting\, Business\, Teenagers\, Cross Cultural and TCKs\, and so much more will be shared and discussed. \nWe have many life stories to share. Hopefully something will be of interest to YOU! \n  \nCome and better equip yourself and be more in tune with God!\n[/vc_column]\n[vc_column width=”1/2″]\n\nWHEN – Selected Sundays\, 12:20 – 13:45 (will be announced in advance).\nWHAT – Topic sessions will be communicated via announcements\, wechat and email.\nWHO – Foreign passport holders or spouse married to one.\nWHERE – Gospel Church\, Room 206.\nWHY – Because we CARE and want to SHARE and GROW together in God’s love within our Fellowship\, in Xiamen and beyond!\nHOW – Sign up after announcement for the session you are interested in\, and be there on the Sunday you sign up.\n\n[/vc_column]\n[/vc_row]\n\nSESSION'S TOPIC\n\nThe Five Love Languages\n  \nThe Five Love Languages emphasizes that we need to learn the people that we are in relationship with in order to speak to them in a way that they hear. We also have the ability to teach people and give them tools to love us well. \nJoin Bro Andy as he shares stories about how the Five Love Languages built stronger relationships with his spouse\, children\, family\, and coworkers. We will laugh! We may cry…and we will learn how knowing each other’s love language can help us build the kind of relationships God wants for us all. \nAndy and his wife Juliet have been in Xiamen over eight years now\, and have three children: Alex\, Chris\, and Kylee. \n12:20-12:45 light lunch\n12:45-1:45 STG Session \n\nOpen to male and female\, age 16 and above*.\n*Foreign passport holders only.\n\nInterested? Sign up with ushers after service or contact Rachel. \n\nYOUR CONTACT\n[vc_row]\n[vc_column width=”1/3″]\n\n\nRachel Kyle \n[/vc_column]\n[vc_column width=”2/3″]\nHospitality and Stories to Grow Coordinator – Steering Committee\n\nRachel has lived and worked as an English teacher in Xiamen for almost seven years and is currently studying her masters in counseling. She and her husband will welcome their first baby this summer and love the XICF community. She is eager to give back to the community however she can. \n\nEmail Rachel\nWechat: rswag0812\n[/vc_column]\n[/vc_row]\n  \n\n
URL:http://xicf.org/event/the-five-love-languages-stories-to-grow-series/
LOCATION:139 Siming East Road\, Zhongshan Road Shangquan\, Siming
CATEGORIES:Stories To Grow
ATTACH;FMTTYPE=image/jpeg:http://xicf.org/wp-content/uploads/2019/04/WechatIMG350.jpeg
END:VEVENT
END:VCALENDAR